BEGIN:VCALENDAR
VERSION:2.0
PRODID:-//ASHRAE RAL - ECPv6.5.0.1//NONSGML v1.0//EN
CALSCALE:GREGORIAN
METHOD:PUBLISH
X-WR-CALNAME:ASHRAE RAL
X-ORIGINAL-URL:https://ashraeral.org
X-WR-CALDESC:Events for ASHRAE RAL
REFRESH-INTERVAL;VALUE=DURATION:PT1H
X-Robots-Tag:noindex
X-PUBLISHED-TTL:PT1H
BEGIN:VTIMEZONE
TZID:Asia/Dubai
BEGIN:STANDARD
TZOFFSETFROM:+0400
TZOFFSETTO:+0400
TZNAME:+04
DTSTART:20200101T000000
END:STANDARD
END:VTIMEZONE
BEGIN:VEVENT
DTSTART;TZID=Asia/Dubai:20200710T110000
DTEND;TZID=Asia/Dubai:20200713T190000
DTSTAMP:20260423T104059
CREATED:20200712T210019Z
LAST-MODIFIED:20200712T210019Z
UID:2517-1594378800-1594666800@ashraeral.org
SUMMARY:ASHRAE RAL Sub Regional virtual meeting
DESCRIPTION:This is the annual sub regional meeting that takes place by the beginning of the ASHRAE fiscal year\, and where all RAL Officers present their reports\, and all chapters representatives present their Chapter report.
URL:https://ashraeral.org/event/ashrae-ral-sub-regional-virtual-meeting/
CATEGORIES:Conference,Meeting
ATTACH;FMTTYPE=:
END:VEVENT
END:VCALENDAR