BEGIN:VCALENDAR
VERSION:2.0
PRODID:-//ASHRAE RAL - ECPv6.5.0.1//NONSGML v1.0//EN
CALSCALE:GREGORIAN
METHOD:PUBLISH
X-ORIGINAL-URL:https://ashraeral.org
X-WR-CALDESC:Events for ASHRAE RAL
REFRESH-INTERVAL;VALUE=DURATION:PT1H
X-Robots-Tag:noindex
X-PUBLISHED-TTL:PT1H
BEGIN:VTIMEZONE
TZID:Asia/Dubai
BEGIN:STANDARD
TZOFFSETFROM:+0400
TZOFFSETTO:+0400
TZNAME:+04
DTSTART:20210101T000000
END:STANDARD
END:VTIMEZONE
BEGIN:VEVENT
DTSTART;TZID=Asia/Dubai:20210628T180000
DTEND;TZID=Asia/Dubai:20210628T200000
DTSTAMP:20260422T182142
CREATED:20210627T113249Z
LAST-MODIFIED:20210627T113249Z
UID:2925-1624903200-1624910400@ashraeral.org
SUMMARY:ASHRAE RAL Annual Summer meeting
DESCRIPTION:
URL:https://ashraeral.org/event/ashrae-ral-annual-summer-meeting/
LOCATION:Zoom
CATEGORIES:Conference,Meeting
ATTACH;FMTTYPE=:
END:VEVENT
END:VCALENDAR